BEGIN:VCALENDAR
VERSION:2.0
PRODID:-//Parc naturel régional Livradois-Forez - ECPv6.15.20//NONSGML v1.0//EN
CALSCALE:GREGORIAN
METHOD:PUBLISH
X-ORIGINAL-URL:https://www.parc-livradois-forez.org
X-WR-CALDESC:Évènements pour Parc naturel régional Livradois-Forez
REFRESH-INTERVAL;VALUE=DURATION:PT1H
X-Robots-Tag:noindex
X-PUBLISHED-TTL:PT1H
BEGIN:VTIMEZONE
TZID:Europe/Paris
BEGIN:DAYLIGHT
TZOFFSETFROM:+0100
TZOFFSETTO:+0200
TZNAME:CEST
DTSTART:20160327T010000
END:DAYLIGHT
BEGIN:STANDARD
TZOFFSETFROM:+0200
TZOFFSETTO:+0100
TZNAME:CET
DTSTART:20161030T010000
END:STANDARD
BEGIN:DAYLIGHT
TZOFFSETFROM:+0100
TZOFFSETTO:+0200
TZNAME:CEST
DTSTART:20170326T010000
END:DAYLIGHT
BEGIN:STANDARD
TZOFFSETFROM:+0200
TZOFFSETTO:+0100
TZNAME:CET
DTSTART:20171029T010000
END:STANDARD
BEGIN:DAYLIGHT
TZOFFSETFROM:+0100
TZOFFSETTO:+0200
TZNAME:CEST
DTSTART:20180325T010000
END:DAYLIGHT
BEGIN:STANDARD
TZOFFSETFROM:+0200
TZOFFSETTO:+0100
TZNAME:CET
DTSTART:20181028T010000
END:STANDARD
END:VTIMEZONE
BEGIN:VEVENT
DTSTART;TZID=Europe/Paris:20170723T143000
DTEND;TZID=Europe/Paris:20170723T173000
DTSTAMP:20260423T212229
CREATED:20170709T085931Z
LAST-MODIFIED:20170709T090851Z
UID:5406-1500820200-1500831000@www.parc-livradois-forez.org
SUMMARY:Jeu de piste en vallée glaciaire
DESCRIPTION:Menez une enquête en famille munis d’une carte et d’un livret pour percer les mystères de la vallée. \nAccompagnement par La Catiche. \n\nEn pratique : depuis Ambert\, suivre « Job » puis « vallée du Fossat ».\n\n\nRéservations et renseignements sur ens.puy-de-dome.fr/agendaou au 04 73 36 39 79.\n\n\nContact au Parc naturel régional Livradois-Forez : Nathanaël LEFEBVRE\, Chargé de mission « Gestion d’espaces naturels remarquables »\, 04 73 95 57 57.\n\n 
URL:https://www.parc-livradois-forez.org/event/jeu-de-piste-vallee-glaciaire/
LOCATION:Vallée du Fossat\, Le Fossat\, Job\, 63990\, France
CATEGORIES:L'agenda du Parc
ATTACH;FMTTYPE=image/jpeg:https://www.parc-livradois-forez.org/wp-content/uploads/2014/01/job_fossat_vallee_0408_es_1008x756.jpg
END:VEVENT
END:VCALENDAR