BEGIN:VCALENDAR
VERSION:2.0
PRODID:-//Parc naturel régional Livradois-Forez - ECPv6.15.20//NONSGML v1.0//EN
CALSCALE:GREGORIAN
METHOD:PUBLISH
X-ORIGINAL-URL:https://www.parc-livradois-forez.org
X-WR-CALDESC:Évènements pour Parc naturel régional Livradois-Forez
REFRESH-INTERVAL;VALUE=DURATION:PT1H
X-Robots-Tag:noindex
X-PUBLISHED-TTL:PT1H
BEGIN:VTIMEZONE
TZID:Europe/Paris
BEGIN:DAYLIGHT
TZOFFSETFROM:+0100
TZOFFSETTO:+0200
TZNAME:CEST
DTSTART:20230326T010000
END:DAYLIGHT
BEGIN:STANDARD
TZOFFSETFROM:+0200
TZOFFSETTO:+0100
TZNAME:CET
DTSTART:20231029T010000
END:STANDARD
BEGIN:DAYLIGHT
TZOFFSETFROM:+0100
TZOFFSETTO:+0200
TZNAME:CEST
DTSTART:20240331T010000
END:DAYLIGHT
BEGIN:STANDARD
TZOFFSETFROM:+0200
TZOFFSETTO:+0100
TZNAME:CET
DTSTART:20241027T010000
END:STANDARD
BEGIN:DAYLIGHT
TZOFFSETFROM:+0100
TZOFFSETTO:+0200
TZNAME:CEST
DTSTART:20250330T010000
END:DAYLIGHT
BEGIN:STANDARD
TZOFFSETFROM:+0200
TZOFFSETTO:+0100
TZNAME:CET
DTSTART:20251026T010000
END:STANDARD
END:VTIMEZONE
BEGIN:VEVENT
DTSTART;TZID=Europe/Paris:20241123T153000
DTEND;TZID=Europe/Paris:20241123T190000
DTSTAMP:20260425T225937
CREATED:20241029T165023Z
LAST-MODIFIED:20241113T100835Z
UID:22135-1732375800-1732388400@www.parc-livradois-forez.org
SUMMARY:Le Castor et les mammifères semi-aquatiques (2)
DESCRIPTION:Animation Conférence\n« Le Castor et les mammifères semi-aquatiques »\n\nVous avez loupé l’animation Castor de la semaine dernière ?\n\nEt bien voici la session 2 : à Ambert le samedi 23 novembre à partir de 15h30.\nToutes les informations sont dans l’affiche ci-dessous .\nLes inscriptions se font auprès de Julien : j.rodier@parc-livradois-forez.org ou par téléphone 04 73 95 57 96.\nBonnes découvertes\n\n\n\n\nCette animation\, ouverte à toutes et tous\, se fera en deux temps : une première partie de 15h30 à 17h sous la forme d’une sortie terrain  puis une deuxième partie en salle  sous la forme d’une conférence-débat de 17h30 à 19h.\nLe nombre de places étant limité\, merci de vous inscrire au 04 73 95 57 96.
URL:https://www.parc-livradois-forez.org/event/le-castor-et-les-mammiferes-semi-aquatiques/
LOCATION:Hôtel de Ville 63600 Ambert\, Boulevard Henri IV\, Ambert\, 63600
CATEGORIES:L'agenda du Parc,Manifestations à la une
ATTACH;FMTTYPE=image/png:https://www.parc-livradois-forez.org/wp-content/uploads/2024/10/castor2.png
ORGANIZER;CN="Parc naturel r%C3%A9gional Livradois-Forez":MAILTO:info@parc-livradois-forez.org
END:VEVENT
END:VCALENDAR