BEGIN:VCALENDAR
VERSION:2.0
PRODID:-//Parc naturel régional Livradois-Forez - ECPv6.15.20//NONSGML v1.0//EN
CALSCALE:GREGORIAN
METHOD:PUBLISH
X-ORIGINAL-URL:https://www.parc-livradois-forez.org
X-WR-CALDESC:Évènements pour Parc naturel régional Livradois-Forez
REFRESH-INTERVAL;VALUE=DURATION:PT1H
X-Robots-Tag:noindex
X-PUBLISHED-TTL:PT1H
BEGIN:VTIMEZONE
TZID:Europe/Paris
BEGIN:DAYLIGHT
TZOFFSETFROM:+0100
TZOFFSETTO:+0200
TZNAME:CEST
DTSTART:20230326T010000
END:DAYLIGHT
BEGIN:STANDARD
TZOFFSETFROM:+0200
TZOFFSETTO:+0100
TZNAME:CET
DTSTART:20231029T010000
END:STANDARD
BEGIN:DAYLIGHT
TZOFFSETFROM:+0100
TZOFFSETTO:+0200
TZNAME:CEST
DTSTART:20240331T010000
END:DAYLIGHT
BEGIN:STANDARD
TZOFFSETFROM:+0200
TZOFFSETTO:+0100
TZNAME:CET
DTSTART:20241027T010000
END:STANDARD
BEGIN:DAYLIGHT
TZOFFSETFROM:+0100
TZOFFSETTO:+0200
TZNAME:CEST
DTSTART:20250330T010000
END:DAYLIGHT
BEGIN:STANDARD
TZOFFSETFROM:+0200
TZOFFSETTO:+0100
TZNAME:CET
DTSTART:20251026T010000
END:STANDARD
END:VTIMEZONE
BEGIN:VEVENT
DTSTART;TZID=Europe/Paris:20241011T170000
DTEND;TZID=Europe/Paris:20241011T193000
DTSTAMP:20260426T003757
CREATED:20241004T145921Z
LAST-MODIFIED:20241004T150125Z
UID:22069-1728666000-1728675000@www.parc-livradois-forez.org
SUMMARY:Les perles de la Dolore
DESCRIPTION:Au cœur d’un site Natura 2000\, allons à la rencontre d’un patrimoine naturel exceptionnel ! \nVenez (re)découvrir une espèce emblématique des cours d’eau du Massif Central\, la Moule perlière. \nLe Parc naturel régional Livradois-Forez et Sylvain Vrignaud\, spécialiste des mollusques d’eau douce\, s’associent pour vous proposer d’en savoir plus sur ce trésor méconnu de nos rivières. \nLa soirée débutera par une sortie sur le terrain de 17h à 18h et se poursuivra en salle\, à la mairie de Fournols\, de 18h30 à 19h30. \nPlaces limitées\, réservation obligatoire : \nj.rodier@parc-livradois-forez.org \n04.73.95.57.96 \nTout public \nGratuit\, réservation obligatoire \nLieu : Les bords de la Dolore et la mairie de Fournols \nLieu de rdv : la place de la mairie\, Fournols \nDate : vendredi 11 octobre 2024 \nHoraires : terrain à 17h / conférence à 18h30
URL:https://www.parc-livradois-forez.org/event/les-perles-de-la-dolore/
LOCATION:Mairie de Fournols\, Mairie - Le bourg\, Fournols\, 63
CATEGORIES:L'agenda du Parc,Manifestations à la une
ATTACH;FMTTYPE=image/jpeg:https://www.parc-livradois-forez.org/wp-content/uploads/2023/08/Moule-perliere_sursouche_GCochet.jpg
ORGANIZER;CN="Parc naturel r%C3%A9gional Livradois-Forez":MAILTO:info@parc-livradois-forez.org
END:VEVENT
END:VCALENDAR