BEGIN:VCALENDAR
VERSION:2.0
PRODID:-//Parc naturel régional Livradois-Forez - ECPv6.15.20//NONSGML v1.0//EN
CALSCALE:GREGORIAN
METHOD:PUBLISH
X-WR-CALNAME:Parc naturel régional Livradois-Forez
X-ORIGINAL-URL:https://www.parc-livradois-forez.org
X-WR-CALDESC:Évènements pour Parc naturel régional Livradois-Forez
REFRESH-INTERVAL;VALUE=DURATION:PT1H
X-Robots-Tag:noindex
X-PUBLISHED-TTL:PT1H
BEGIN:VTIMEZONE
TZID:Europe/Paris
BEGIN:DAYLIGHT
TZOFFSETFROM:+0100
TZOFFSETTO:+0200
TZNAME:CEST
DTSTART:20230326T010000
END:DAYLIGHT
BEGIN:STANDARD
TZOFFSETFROM:+0200
TZOFFSETTO:+0100
TZNAME:CET
DTSTART:20231029T010000
END:STANDARD
BEGIN:DAYLIGHT
TZOFFSETFROM:+0100
TZOFFSETTO:+0200
TZNAME:CEST
DTSTART:20240331T010000
END:DAYLIGHT
BEGIN:STANDARD
TZOFFSETFROM:+0200
TZOFFSETTO:+0100
TZNAME:CET
DTSTART:20241027T010000
END:STANDARD
BEGIN:DAYLIGHT
TZOFFSETFROM:+0100
TZOFFSETTO:+0200
TZNAME:CEST
DTSTART:20250330T010000
END:DAYLIGHT
BEGIN:STANDARD
TZOFFSETFROM:+0200
TZOFFSETTO:+0100
TZNAME:CET
DTSTART:20251026T010000
END:STANDARD
END:VTIMEZONE
BEGIN:VEVENT
DTSTART;TZID=Europe/Paris:20240918T143000
DTEND;TZID=Europe/Paris:20240918T170000
DTSTAMP:20260426T021013
CREATED:20240910T155414Z
LAST-MODIFIED:20240910T155625Z
UID:21630-1726669800-1726678800@www.parc-livradois-forez.org
SUMMARY:Balade nature Hautes Chaumes du Forez
DESCRIPTION:Marquées par un paysage de landes de montagne\, les Hautes-Chaumes du Forez sont aussi un haut lieu de biodiversité. Classés Natura 2000\, venez découvrir la faune et la flore qui occupent ces grands espaces avec un guide naturaliste mercredi 18 septembre à 14h30 au Col des Supeyres. GRATUIT TOUT PUBLIC
URL:https://www.parc-livradois-forez.org/event/21630/
LOCATION:Col des Supeyres\, Les Supeyres\, Valcivières\, 63600
CATEGORIES:L'agenda du Parc,Manifestations à la une
ATTACH;FMTTYPE=image/jpeg:https://www.parc-livradois-forez.org/wp-content/uploads/2024/09/affiche-Balade-Hautes-Chaumes-18sept24-v4.jpg
END:VEVENT
END:VCALENDAR