BEGIN:VCALENDAR
VERSION:2.0
PRODID:-//Parc naturel régional Livradois-Forez - ECPv6.15.20//NONSGML v1.0//EN
CALSCALE:GREGORIAN
METHOD:PUBLISH
X-WR-CALNAME:Parc naturel régional Livradois-Forez
X-ORIGINAL-URL:https://www.parc-livradois-forez.org
X-WR-CALDESC:Évènements pour Parc naturel régional Livradois-Forez
REFRESH-INTERVAL;VALUE=DURATION:PT1H
X-Robots-Tag:noindex
X-PUBLISHED-TTL:PT1H
BEGIN:VTIMEZONE
TZID:Europe/Paris
BEGIN:DAYLIGHT
TZOFFSETFROM:+0100
TZOFFSETTO:+0200
TZNAME:CEST
DTSTART:20230326T010000
END:DAYLIGHT
BEGIN:STANDARD
TZOFFSETFROM:+0200
TZOFFSETTO:+0100
TZNAME:CET
DTSTART:20231029T010000
END:STANDARD
BEGIN:DAYLIGHT
TZOFFSETFROM:+0100
TZOFFSETTO:+0200
TZNAME:CEST
DTSTART:20240331T010000
END:DAYLIGHT
BEGIN:STANDARD
TZOFFSETFROM:+0200
TZOFFSETTO:+0100
TZNAME:CET
DTSTART:20241027T010000
END:STANDARD
BEGIN:DAYLIGHT
TZOFFSETFROM:+0100
TZOFFSETTO:+0200
TZNAME:CEST
DTSTART:20250330T010000
END:DAYLIGHT
BEGIN:STANDARD
TZOFFSETFROM:+0200
TZOFFSETTO:+0100
TZNAME:CET
DTSTART:20251026T010000
END:STANDARD
END:VTIMEZONE
BEGIN:VEVENT
DTSTART;TZID=Europe/Paris:20240714T100000
DTEND;TZID=Europe/Paris:20240714T180000
DTSTAMP:20260426T050846
CREATED:20240711T100540Z
LAST-MODIFIED:20240711T101444Z
UID:21482-1720951200-1720980000@www.parc-livradois-forez.org
SUMMARY:Festival au Col de la Loge 14 juillet : EXPOS ET CONFERENCES
DESCRIPTION:Expositions : TRAME VIEUX BOIS & LE SAPIN\n10h à 18h : Expositions visibles sur le parking du Chalet du Col de la Loge – GRATUIT \nExpositions réalisées par le Parc naturel régional Livradois-Forez \nConférences – Jean-Claude CORBEL\, Chargé de mission – Parc Livradois-Forez\n\n11h30 : Le sapin du Livradois-Forez\, une essence qui a du sens\nLieu : parking du Chalet du Col de la Loge – GRATUIT\n15h00 : La trame vieux bois en Livradois-Forez\nLieu : salle d’accueil du Chalet du Col de la Loge – GRATUIT\n\nProgramme
URL:https://www.parc-livradois-forez.org/event/festival-du-col-de-la-loge-expos-et-conferences/
LOCATION:Col de la Loge\, Col de la Loge\, La Chamba\, 42440\, France
CATEGORIES:Manifestations à la une
ATTACH;FMTTYPE=image/jpeg:https://www.parc-livradois-forez.org/wp-content/uploads/2024/07/fest-pleine-nature.jpg
ORGANIZER;CN="Association Tous au Cole de la Loge":MAILTO:tousaucoldelaloge@gmail.com
END:VEVENT
BEGIN:VEVENT
DTSTART;TZID=Europe/Paris:20240717T093000
DTEND;TZID=Europe/Paris:20240717T120000
DTSTAMP:20260426T050846
CREATED:20240604T095650Z
LAST-MODIFIED:20240604T095827Z
UID:21343-1721208600-1721217600@www.parc-livradois-forez.org
SUMMARY:Vis ma vie de bûcheron
DESCRIPTION:Cet été\, venez à la rencontre des professionnels de l’exploitation forestière !\n\n\nGlissez-vous dans la peau d’un professionnel de la filière forêt-bois le temps d’une demi-journée. Deux visites gratuites et accompagnées sont proposées les mercredis 17 et 24 juillet sur Thiers et Ambert. \nMOTS CLÉ : FORÊT\, BOIS\, MÉTIERS\nCette année « vis ma vie de bucheron » fête ses 10 ans et vous emmène en forêt pour rencontrer des professionnels de l’exploitation forestière. \n\n« Vis ma vie de bûcheron »\, c’est l’opportunité de rencontrer\, seul\, en famille ou entre amis\, des professionnels de la gestion et de l’exploitation forestière\, d’échanger avec eux\, de découvrir leurs métiers… \nCette opération\, originale\, gratuite\, ouverte à toutes et tous\, présente les différentes facettes des métiers forestiers et montre toutes les activités liées à l’entretien de la forêt\, sélection des arbres\, coupe\, débardage\, élagage\, taille de formation\, nettoyage de parcelle et renouvellement du peuplement qui garantissent la gestion durable de nos forêts. \nCes visites\, propices à l’échange entre les professionnels et le grand public\, permettent de découvrir les enjeux de la gestion des forêts et ont également pour ambition de susciter des vocations\, auprès des jeunes ou des personnes en reconversion\, pour un secteur en constante recherche de main d’œuvre. \nEn 2024\, FIBOIS AuRA\, en partenariat avec le syndicat mixte du Parc Livradois-Forez\, vous proposent deux visites les mercredis matin de juillet (lieu de rendez-vous communiqué lors de l’inscription) : \n\nmercredi 17 juillet 2024 de 9h30 à 12h00\, dans le secteur de Thiers\nmercredi 24 juillet 2024 de 9h30 à 12h00\, dans le secteur d’Ambert\n\nEn savoir plus \n\nINSCRIPTION\n\nProgrammeTélécharger
URL:https://www.parc-livradois-forez.org/event/vis-ma-vie-de-bucheron-4/
LOCATION:Carrefour Thiers\, Thiers\, 63300
CATEGORIES:L'agenda du Parc,Manifestations à la une
ORGANIZER;CN="Parc naturel r%C3%A9gional Livradois-Forez":MAILTO:info@parc-livradois-forez.org
END:VEVENT
BEGIN:VEVENT
DTSTART;TZID=Europe/Paris:20240724T093000
DTEND;TZID=Europe/Paris:20240724T120000
DTSTAMP:20260426T050846
CREATED:20240604T100125Z
LAST-MODIFIED:20240604T100353Z
UID:21348-1721813400-1721822400@www.parc-livradois-forez.org
SUMMARY:Vis ma vie de bûcheron
DESCRIPTION:Cet été\, venez à la rencontre des professionnels de l’exploitation forestière !\n\n\nGlissez-vous dans la peau d’un professionnel de la filière forêt-bois le temps d’une demi-journée. Deux visites gratuites et accompagnées sont proposées les mercredis 17 et 24 juillet sur Thiers et Ambert. \nMOTS CLÉ : FORÊT\, BOIS\, MÉTIERS\nCette année « vis ma vie de bucheron » fête ses 10 ans et vous emmène en forêt pour rencontrer des professionnels de l’exploitation forestière. \n\n« Vis ma vie de bûcheron »\, c’est l’opportunité de rencontrer\, seul\, en famille ou entre amis\, des professionnels de la gestion et de l’exploitation forestière\, d’échanger avec eux\, de découvrir leurs métiers… \nCette opération\, originale\, gratuite\, ouverte à toutes et tous\, présente les différentes facettes des métiers forestiers et montre toutes les activités liées à l’entretien de la forêt\, sélection des arbres\, coupe\, débardage\, élagage\, taille de formation\, nettoyage de parcelle et renouvellement du peuplement qui garantissent la gestion durable de nos forêts. \nCes visites\, propices à l’échange entre les professionnels et le grand public\, permettent de découvrir les enjeux de la gestion des forêts et ont également pour ambition de susciter des vocations\, auprès des jeunes ou des personnes en reconversion\, pour un secteur en constante recherche de main d’œuvre. \nEn 2024\, FIBOIS AuRA\, en partenariat avec le syndicat mixte du Parc Livradois-Forez\, vous proposent deux visites les mercredis matin de juillet (lieu de rendez-vous communiqué lors de l’inscription) : \n\nmercredi 17 juillet 2024 de 9h30 à 12h00\, dans le secteur de Thiers\nmercredi 24 juillet 2024 de 9h30 à 12h00\, dans le secteur d’Ambert\n\nEn savoir plus \n\nINSCRIPTION\n\n\n\nProgrammeTélécharger
URL:https://www.parc-livradois-forez.org/event/vis-ma-vie-de-bucheron-5/
LOCATION:Gare d’Ambert\, La Gare\, Ambert\, 63600
CATEGORIES:L'agenda du Parc,Manifestations à la une
ORGANIZER;CN="Parc naturel r%C3%A9gional Livradois-Forez":MAILTO:info@parc-livradois-forez.org
END:VEVENT
BEGIN:VEVENT
DTSTART;TZID=Europe/Paris:20240726T094500
DTEND;TZID=Europe/Paris:20240726T120000
DTSTAMP:20260426T050846
CREATED:20240723T123519Z
LAST-MODIFIED:20240723T123841Z
UID:21539-1721987100-1721995200@www.parc-livradois-forez.org
SUMMARY:Les merveilles de la nature au Lac d’Aubusson d’Auvergne
DESCRIPTION:Les merveilles de la nature au Lac d’Aubusson d’Auvergne\nAu cœur d’un site Natura 2000\, allons à la rencontre d’un patrimoine naturel exceptionnel !\nVenez (re)découvrir la faune et la flore du Lac d’Aubusson lors d’une balade facile\, ludique et accessible à tous.\n\n\nLe service Education à l’Environnement de la Communauté de communes Thiers Dore et Montagne et le Parc Naturel Régional du Livradois Forez s’associent pour vous proposer une balade en famille\, accessible à tous pour mener l’enquête en nature !\nUne aventure pour les petits et les grands à la rencontre de la Loutre\, des chauve-souris et de leurs arbres fétiches\, des libellules et papillons multicolores et bien d’autres surprises encore… le long des sentiers ombragés et des cours d’eau frais traversant la forêt d’Aubusson.\nPlaces limitées\, réservation obligatoire sur le site internet du Parc. https://forms.office.com/e/cXCrmHY8wG.\n\n\nPour plus d’informations : contacter le Parc au 04 73 95 57 57 ou le service Education à l’Environnement de la Communauté de communes Thiers Dore et Montagne au 04 73 53 59 91\nLieu : Lac d’Aubusson d’Auvergne\nLieu de rdv : Parking devant la Maison du Lac\nDate : vendredi 26 juillet 2024\nHoraire : départ 10 h – rdv 9h45\nDurée : 2h\, facile\n\n\n			\n				\n			\n				\n				© Louis Sommermont
URL:https://www.parc-livradois-forez.org/event/les-merveilles-de-la-nature-au-lac-daubusson-dauvergne/
LOCATION:Lac d’Aubusson d’Auvergne\, La Prade\, Aubusson d'Auvergne\, 63120\, France
CATEGORIES:Eco-manifestation,L'agenda du Parc,Manifestations à la une
ATTACH;FMTTYPE=image/jpeg:https://www.parc-livradois-forez.org/wp-content/uploads/2024/07/lac_CoP.jpg
ORGANIZER;CN="Communaut%C3%A9 de communes Thiers Dore et montagne":MAILTO:contact@cctdm.fr
END:VEVENT
BEGIN:VEVENT
DTSTART;TZID=Europe/Paris:20240726T210000
DTEND;TZID=Europe/Paris:20240726T230000
DTSTAMP:20260426T050846
CREATED:20240723T124834Z
LAST-MODIFIED:20240723T124834Z
UID:21550-1722027600-1722034800@www.parc-livradois-forez.org
SUMMARY:Le lac de Malaguet au crépuscule
DESCRIPTION:26 juillet 2024\, départ à 21h du parking du lac\, gratuit \nAu coucher du soleil\, une autre vie s’anime autour du lac. Tous les sens en éveil\, nous cheminerons entre prairies et forêts pour expérimenter une autre approche de la nature. \nPrévoir des chaussures de marche\, de l’eau et une lampe de poche. \nRéservation auprès de l’office du tourisme de La Chaise-Dieu : 04 71 00 01 16 ou lachaisedieu-tourisme@puyenvelay.fr
URL:https://www.parc-livradois-forez.org/event/le-lac-de-malaguet-au-crepuscule/
LOCATION:Lac de Malaguet\, Parking du Lac de Malaguet\, Monlet\, 43270\, France
CATEGORIES:Eco-manifestation,L'agenda du Parc,Manifestations à la une
ATTACH;FMTTYPE=image/jpeg:https://www.parc-livradois-forez.org/wp-content/uploads/2024/07/P1210621-1024x684-1.jpg
ORGANIZER;CN="Parc naturel r%C3%A9gional Livradois-Forez":MAILTO:info@parc-livradois-forez.org
END:VEVENT
END:VCALENDAR