BEGIN:VCALENDAR
VERSION:2.0
PRODID:-//Parc naturel régional Livradois-Forez - ECPv6.15.20//NONSGML v1.0//EN
CALSCALE:GREGORIAN
METHOD:PUBLISH
X-WR-CALNAME:Parc naturel régional Livradois-Forez
X-ORIGINAL-URL:https://www.parc-livradois-forez.org
X-WR-CALDESC:Évènements pour Parc naturel régional Livradois-Forez
REFRESH-INTERVAL;VALUE=DURATION:PT1H
X-Robots-Tag:noindex
X-PUBLISHED-TTL:PT1H
BEGIN:VTIMEZONE
TZID:Europe/Paris
BEGIN:DAYLIGHT
TZOFFSETFROM:+0100
TZOFFSETTO:+0200
TZNAME:CEST
DTSTART:20230326T010000
END:DAYLIGHT
BEGIN:STANDARD
TZOFFSETFROM:+0200
TZOFFSETTO:+0100
TZNAME:CET
DTSTART:20231029T010000
END:STANDARD
BEGIN:DAYLIGHT
TZOFFSETFROM:+0100
TZOFFSETTO:+0200
TZNAME:CEST
DTSTART:20240331T010000
END:DAYLIGHT
BEGIN:STANDARD
TZOFFSETFROM:+0200
TZOFFSETTO:+0100
TZNAME:CET
DTSTART:20241027T010000
END:STANDARD
BEGIN:DAYLIGHT
TZOFFSETFROM:+0100
TZOFFSETTO:+0200
TZNAME:CEST
DTSTART:20250330T010000
END:DAYLIGHT
BEGIN:STANDARD
TZOFFSETFROM:+0200
TZOFFSETTO:+0100
TZNAME:CET
DTSTART:20251026T010000
END:STANDARD
END:VTIMEZONE
BEGIN:VEVENT
DTSTART;TZID=Europe/Paris:20240601T100000
DTEND;TZID=Europe/Paris:20240602T180000
DTSTAMP:20260426T064347
CREATED:20240426T131322Z
LAST-MODIFIED:20240426T131322Z
UID:21282-1717236000-1717351200@www.parc-livradois-forez.org
SUMMARY:Fête des plantes
DESCRIPTION:Jardins Fruités vous donne rendez-vous les 1er et 2 juin au château de Chavaniac Lafayette pour « l’Événement Jardin » de la région. \nThème 2024 : « L’émerveillement au jardin »
URL:https://www.parc-livradois-forez.org/event/fete-des-plantes/
LOCATION:Chavaniac-Lafayette\, 1 allée de l'Hermione\, Chavaniac-lafayette\, 43230\, France
CATEGORIES:Manifestations à la une
ATTACH;FMTTYPE=image/png:https://www.parc-livradois-forez.org/wp-content/uploads/2024/04/AFFICHE-FDP-2024.png
ORGANIZER;CN="Jardins fruit%C3%A9s":MAILTO:info@jardinsfruites.fr
END:VEVENT
END:VCALENDAR