BEGIN:VCALENDAR
VERSION:2.0
PRODID:-//Parc naturel régional Livradois-Forez - ECPv6.15.20//NONSGML v1.0//EN
CALSCALE:GREGORIAN
METHOD:PUBLISH
X-WR-CALNAME:Parc naturel régional Livradois-Forez
X-ORIGINAL-URL:https://www.parc-livradois-forez.org
X-WR-CALDESC:Évènements pour Parc naturel régional Livradois-Forez
REFRESH-INTERVAL;VALUE=DURATION:PT1H
X-Robots-Tag:noindex
X-PUBLISHED-TTL:PT1H
BEGIN:VTIMEZONE
TZID:Europe/Paris
BEGIN:DAYLIGHT
TZOFFSETFROM:+0100
TZOFFSETTO:+0200
TZNAME:CEST
DTSTART:20200329T010000
END:DAYLIGHT
BEGIN:STANDARD
TZOFFSETFROM:+0200
TZOFFSETTO:+0100
TZNAME:CET
DTSTART:20201025T010000
END:STANDARD
BEGIN:DAYLIGHT
TZOFFSETFROM:+0100
TZOFFSETTO:+0200
TZNAME:CEST
DTSTART:20210328T010000
END:DAYLIGHT
BEGIN:STANDARD
TZOFFSETFROM:+0200
TZOFFSETTO:+0100
TZNAME:CET
DTSTART:20211031T010000
END:STANDARD
BEGIN:DAYLIGHT
TZOFFSETFROM:+0100
TZOFFSETTO:+0200
TZNAME:CEST
DTSTART:20220327T010000
END:DAYLIGHT
BEGIN:STANDARD
TZOFFSETFROM:+0200
TZOFFSETTO:+0100
TZNAME:CET
DTSTART:20221030T010000
END:STANDARD
END:VTIMEZONE
BEGIN:VEVENT
DTSTART;VALUE=DATE:20210729
DTEND;VALUE=DATE:20210730
DTSTAMP:20260423T225958
CREATED:20210611T073949Z
LAST-MODIFIED:20210611T073949Z
UID:16205-1627516800-1627603199@www.parc-livradois-forez.org
SUMMARY:LES FOURM’IDABLES PIQUE-NIQUES DE LA FOURME D’AMBERT
DESCRIPTION:MISE AU VERT POUR L’AOP FOURME D’AMBERT : LES FOURM’IDABLES PIQUE-NIQUES ARRIVENT !\nCet été\, l’AOP Fourme d’Ambert invite épicuriens engagés mais aussi gourmands curieux à (re)découvrir une partie de sa zone de production\, au cœur du Parc naturel régional Livradois-Forez. \nLes jeudis 1er et 29 juillet\, la 1ère édition des « Fourm’idables pique-niques » accueillera entre 100 et 200 personnes pour vivre une expérience inédite\, au cœur de deux sites naturels préservés. Le jeudi 1 juillet 2021 au Belvédère des 2 frères sur la commune d’Echandelys et le jeudi 29 juillet 2021 à la Jasserie du col des Supeyres à Valcivières (liens GPS disponibles sur la billetterie). \nPour cette mise au vert du plus doux des bleus\, le Syndicat interprofessionnel de la Fourme d’Ambert (SIFAm) a concocté un programme champêtre pour toute la famille. Le midi dès 11h30 ou en soirée dès 19h\, la part belle sera faite à la douceur créative de l’AOP Fourme d’Ambert grâce aux délicieuses démonstrations des chefs Toques d’Auvergne invités pour l’occasion. \nDu côté des animations\, balades contées\, déambulations improvisées ou encore jeux en bois pour les plus jeunes rythmeront cette parenthèse gourmande. Une façon savoureuse d’apprécier ce territoire dont la richesse floristique confère à la Fourme d’Ambert toute sa saveur. \nVous pourrez aussi aller à la rencontre des vignerons auvergnats de la Fédération viticole des vins d’Auvergne et choisir le vin qui accompagnera le mieux votre repas. \nNous vous proposons un menu unique\, n’hésitez pas à nous contacter pour d’éventuelles allergies alimentaires (Contact : fourmidablespiqueniques@gmail.com). \n  \nLE MENU ?\nRepas commun aux deux dates et aux différents services : \n\nMIGNARDISES de l’AOP Fourme d’Ambert\nENTRÉES : Salade de céréales aux herbes fraîches\, Salade de pomme de terre traditionnelle\nPLAT : Farinettes auvergnates de légumes de saison\, Jambon en croûte de pain au foin et sauce à la Fourme d’Ambert AOP\nFROMAGE : Fourme d’Ambert AOP et son pain\nDESSERTS (2 au choix parmi) : Tartelettes myrtilles\, Pompe aux pommes\, Clafoutis aux poires\, Ancolies framboise\n\nL’inscription en ligne est obligatoire\, pour réserver cliquez sur « Billetterie » ci-dessous (ou à défaut par téléphone au 04 73 98 69 49)  : \nBILLETTERIE\nLES CHOSES À SAVOIR\n\nPour le respect des gestes barrières chaque réservation correspond à 1 espace pique-nique. Chaque espace repas ne peut recevoir plus de 6 personnes. Néanmoins si vous êtes plus de 6 vous pouvez nous contacter pour nous indiquer que vous serez 2 groupes\, nous vous placerons à proximité.\nNous prévoyons cependant quelques tables et chaises pour permettre au plus grand nombre de participer. Merci de nous indiquer lors de votre réservation si vous avez besoin d’une table.\n\n  \nVOUS SOUHAITEZ PROLONGER VOTRE PAUSE NATURE ?\nNous vous proposons pour chacun des lieux une randonnée. Ces deux randonnées sont des boucles mais vous pouvez tout à fait les moduler selon vos envies ! \n\nAu Belvédère des Deux Frères\, à Echandelys vous pourrez arpenter le sentier des panoramas .\nAu col des Supeyres\, à Valcivières vous pourrez emprunter le sentier des colporteurs et découvrir les jasseries.\n\n  \nREMERCIEMENTS DE l’AOP FOURME D’AMBERT\nNous profitons de cet article pour remercier tous nos partenaires. Merci aux chefs Toques d’Auvergne d’avoir adhéré à ce projet\, à la Fédération viticole des Vins d’Auvergne d’avoir répondu présente\, et aux Airelles d’avoir accepté ce projet. \nNous remercions également la commune d’Echandelys et les propriétaires qui ont accepté le temps d’un jour de nous prêter leurs magnifiques panoramas. \n  \nCONTACT\nMail: fourmidablespiqueniques@gmail.com \nTéléphone: 04 73 98 69 49
URL:https://www.parc-livradois-forez.org/event/les-fourmidables-pique-niques-de-la-fourme-dambert-2/
LOCATION:Col des Supeyres\, Les Supeyres\, Valcivières\, 63600
CATEGORIES:L'agenda du Parc
ATTACH;FMTTYPE=image/png:https://www.parc-livradois-forez.org/wp-content/uploads/2021/06/199098774_496572831686124_7891686818513743307_n.png
ORGANIZER;CN="AOP FOURME D'AMBERT":MAILTO:fourmidablespiqueniques@gmail.com
END:VEVENT
END:VCALENDAR