BEGIN:VCALENDAR
VERSION:2.0
PRODID:-//Parc naturel régional Livradois-Forez - ECPv6.15.20//NONSGML v1.0//EN
CALSCALE:GREGORIAN
METHOD:PUBLISH
X-WR-CALNAME:Parc naturel régional Livradois-Forez
X-ORIGINAL-URL:https://www.parc-livradois-forez.org
X-WR-CALDESC:Évènements pour Parc naturel régional Livradois-Forez
REFRESH-INTERVAL;VALUE=DURATION:PT1H
X-Robots-Tag:noindex
X-PUBLISHED-TTL:PT1H
BEGIN:VTIMEZONE
TZID:Europe/Paris
BEGIN:DAYLIGHT
TZOFFSETFROM:+0100
TZOFFSETTO:+0200
TZNAME:CEST
DTSTART:20200329T010000
END:DAYLIGHT
BEGIN:STANDARD
TZOFFSETFROM:+0200
TZOFFSETTO:+0100
TZNAME:CET
DTSTART:20201025T010000
END:STANDARD
BEGIN:DAYLIGHT
TZOFFSETFROM:+0100
TZOFFSETTO:+0200
TZNAME:CEST
DTSTART:20210328T010000
END:DAYLIGHT
BEGIN:STANDARD
TZOFFSETFROM:+0200
TZOFFSETTO:+0100
TZNAME:CET
DTSTART:20211031T010000
END:STANDARD
BEGIN:DAYLIGHT
TZOFFSETFROM:+0100
TZOFFSETTO:+0200
TZNAME:CEST
DTSTART:20220327T010000
END:DAYLIGHT
BEGIN:STANDARD
TZOFFSETFROM:+0200
TZOFFSETTO:+0100
TZNAME:CET
DTSTART:20221030T010000
END:STANDARD
END:VTIMEZONE
BEGIN:VEVENT
DTSTART;TZID=Europe/Paris:20210225T100000
DTEND;TZID=Europe/Paris:20210225T120000
DTSTAMP:20260424T112950
CREATED:20210222T141833Z
LAST-MODIFIED:20210310T165603Z
UID:15170-1614247200-1614254400@www.parc-livradois-forez.org
SUMMARY:Le Plan Local d’Urbanisme Intercommunal  au service de vos projets
DESCRIPTION:En2021\, afin de s’adapter au contexte sanitaire\, le programme des \nRencontres de l’Atelier d’Urbanisme en Livradois-Forez\npasse au numérique ! \nLe syndicat mixte du Parc naturel régional Livradois-Forez invite\nles élus de son territoire à des \nsessions de sensibilisation et d’échanges\nen visio-conférence.\nLes trois premières seront organisées sur la thématique des\ndocuments d’urbanisme\, \n« Le Plan Local d’Urbanisme Intercommunal\nau service de vos projets » : \njeudi 25 février 2021\nde 10h00 à 12h00\, \njeudi 18 mars 2021\nde 14h00 à 16h00\, \njeudi 29 avril 2021\nde 18h00 à 20h00. \nProgramme d’une session (2h) : \nIntroduction au PLUi\nRetour d’expérience d’un(e) élu(e) d’une collectivité dotée d’un PLUi\nAtelier de travail \nEn pratique :\nCes websessions sont interactives et participatives. Elles sont limitées à 15 personnes.\nElles ne sont pas ouvertes au grand public.\nRéservées aux élus\, elles nécessitent une inscription préalable. \nContexte :\nLes Plans Locaux d’Urbanisme (PLU) \, à l’échelle d’une commune ou d’une intercommunalité\, permettent de projeter des stratégies de développement à 10 ou 15 ans et d’établir des outils règlementaires au service de ces stratégies.\nLes élus municipaux\, que la compétence soit exercée ou non par l’intercommunalité\, ont un rôle important dans l’élaboration d’un PLU(i). De par leurs connaissances des enjeux locaux\, ils sont les plus à même de connaitre les besoins du territoire en matière de développement urbain\, d’enjeux économiques locaux\, de préservation des terres agricoles et des patrimoines environnementaux\, culturels\, bâtis… \nContact :\nLeïla HAMIDI \, chargée de mission « Urbanisme  » – l.hamidi@parc-livradois-forez.org – 04 73 95 57 93
URL:https://www.parc-livradois-forez.org/event/le-plan-local-durbanisme-intercommunal-au-service-de-vos-projets/
LOCATION:Visioconférence
CATEGORIES:L'agenda du Parc
ATTACH;FMTTYPE=image/png:https://www.parc-livradois-forez.org/wp-content/uploads/2021/02/leila.png
END:VEVENT
END:VCALENDAR