BEGIN:VCALENDAR
VERSION:2.0
PRODID:-//Parc naturel régional Livradois-Forez - ECPv6.15.20//NONSGML v1.0//EN
CALSCALE:GREGORIAN
METHOD:PUBLISH
X-WR-CALNAME:Parc naturel régional Livradois-Forez
X-ORIGINAL-URL:https://www.parc-livradois-forez.org
X-WR-CALDESC:Évènements pour Parc naturel régional Livradois-Forez
REFRESH-INTERVAL;VALUE=DURATION:PT1H
X-Robots-Tag:noindex
X-PUBLISHED-TTL:PT1H
BEGIN:VTIMEZONE
TZID:Europe/Paris
BEGIN:DAYLIGHT
TZOFFSETFROM:+0100
TZOFFSETTO:+0200
TZNAME:CEST
DTSTART:20190331T010000
END:DAYLIGHT
BEGIN:STANDARD
TZOFFSETFROM:+0200
TZOFFSETTO:+0100
TZNAME:CET
DTSTART:20191027T010000
END:STANDARD
BEGIN:DAYLIGHT
TZOFFSETFROM:+0100
TZOFFSETTO:+0200
TZNAME:CEST
DTSTART:20200329T010000
END:DAYLIGHT
BEGIN:STANDARD
TZOFFSETFROM:+0200
TZOFFSETTO:+0100
TZNAME:CET
DTSTART:20201025T010000
END:STANDARD
BEGIN:DAYLIGHT
TZOFFSETFROM:+0100
TZOFFSETTO:+0200
TZNAME:CEST
DTSTART:20210328T010000
END:DAYLIGHT
BEGIN:STANDARD
TZOFFSETFROM:+0200
TZOFFSETTO:+0100
TZNAME:CET
DTSTART:20211031T010000
END:STANDARD
END:VTIMEZONE
BEGIN:VEVENT
DTSTART;TZID=Europe/Paris:20201201T100000
DTEND;TZID=Europe/Paris:20201201T120000
DTSTAMP:20260424T125300
CREATED:20201126T155121Z
LAST-MODIFIED:20201126T160002Z
UID:14679-1606816800-1606824000@www.parc-livradois-forez.org
SUMMARY:Visio-conférence : pour une trame de vieux bois   dans les forêts publiques et privées.
DESCRIPTION:Garder des bois matures est un gage de qualité et de pérennité des forêts.\nLe Parc naturel régional Livradois-Forez organise une visio-conférence\,à l’attention des acteurs de la filière Forêt-Bois\, pour présenter un travail visant à déployer  une trame de vieux bois dans les forêts publiques et privées. \nRendez-vous  \nmardi 1er décembre 2020\nde 10h00 à 12h00 \ngrâce à CE LIEN d’accès. \nL’ordre du jour est le suivant : \n\nMot d’introduction de Stéphane Rodier\, \nprésident du syndicat mixte du Parc Livradois-Forez\nStructure de la forêt en Livradois-Forez\nPrésentation générale du projet\nIntégration du projet dans une stratégie globale\nIntérêts pour les sylviculteurs et la biodiversité\nComment participer ? Appel à volontaires\nÉchanges avec les participants\n\nContexte : \nLe Parc Livradois-Forez travaille à l’amélioration des fonctionnalités écologiques des forêts. Pour cela il prévoit de déployer une trame de vieux bois qui offrira des zones favorables à la circulation des espèces. \nConcrètement\, il s’agit de créer un maillage d’habitats\, répartis à l’échelle du massif forestier\, en délimitant : \n\ndes réservoirs de maturité (ou îlots de sénescence) où la forêt est laissée en libre évolution\, jusqu’à la mort des arbres\,\nune trame intermédiaire exploitée où une meilleure fonctionnalité de l’écosystème est recherchée. On y désigne des arbres pour la biodiversité\, on favorise le mélange des essences et l’étagement de la végétation.\n\nLes îlots de sénescence et la trame intermédiaire permettent l’installation et la dispersion d’espèces inféodées aux bois morts et aux forêts anciennes. Ces espèces sont utiles pour améliorer la fertilité des sols\, les capacités de régénération et de résilience des peuplements forestiers mais aussi pour lutter contre les ravageurs. \nEn pratique : \nLes sylviculteurs volontaires peuvent s’engager auprès du Parc Livradois-Forez. Chaque dispositif sera réfléchi au cas par cas\, en fonction de la surface de la forêt et des attentes du propriétaire\, afin d’optimiser intérêt économique et environnemental. Ainsi\, chaque sylviculteur peut s’inscrire dans cette dynamique selon ses possibilités\, ses envies et ses objectifs personnels. \nPlus d’informations pour participer : ICI. \nPartenariats : \nLe Parc pilote ce projet avec l’Office national des forêts\, le Centre régional de la propriété forestière\, le Conservatoire botanique national du Massif central\, le Conservatoire d’espaces naturels d’Auvergne et l’Union régionale des communes forestières Auvergne-Rhône-Alpes. \nComme à son habitude\, le Parc entend aussi s’appuyer sur les compétences de tous ses partenaires et acteurs locaux : les syndicats Fransylva\, les associations et groupements de propriétaires forestiers\, les gestionnaires forestiers intervenant sur le territoire\, les services « forêt » de la région\, des départements\, des communautés de communes et d’agglomération\, etc. \nL’Europe\, l’État\, la Région et le Parc sur ses fonds propres\, sont au nombre des financeurs de cette action. \nContacts au Parc Livradois-Forez : 04 73 95 57 57 \n\nMorgane Malard\, Chargée de mission « Forêt-Filière Bois »\,m.malard@parc-livradois-forez.org\nJean-Claude Corbel\, Chargé de mission « Espèces et activités de pleine nature »\, jc.corbel@parc-livradois-forez.org
URL:https://www.parc-livradois-forez.org/event/visio-conference-pour-une-trame-de-vieux-bois-dans-les-forets-publiques-et-privees/
LOCATION:Visioconférence
CATEGORIES:L'agenda du Parc
ATTACH;FMTTYPE=image/jpeg:https://www.parc-livradois-forez.org/wp-content/uploads/2020/10/BoisMort_Terme_062020_JCCbd.jpg
END:VEVENT
END:VCALENDAR