BEGIN:VCALENDAR
VERSION:2.0
PRODID:-//Parc naturel régional Livradois-Forez - ECPv6.15.20//NONSGML v1.0//EN
CALSCALE:GREGORIAN
METHOD:PUBLISH
X-WR-CALNAME:Parc naturel régional Livradois-Forez
X-ORIGINAL-URL:https://www.parc-livradois-forez.org
X-WR-CALDESC:Évènements pour Parc naturel régional Livradois-Forez
REFRESH-INTERVAL;VALUE=DURATION:PT1H
X-Robots-Tag:noindex
X-PUBLISHED-TTL:PT1H
BEGIN:VTIMEZONE
TZID:Europe/Paris
BEGIN:DAYLIGHT
TZOFFSETFROM:+0100
TZOFFSETTO:+0200
TZNAME:CEST
DTSTART:20190331T010000
END:DAYLIGHT
BEGIN:STANDARD
TZOFFSETFROM:+0200
TZOFFSETTO:+0100
TZNAME:CET
DTSTART:20191027T010000
END:STANDARD
BEGIN:DAYLIGHT
TZOFFSETFROM:+0100
TZOFFSETTO:+0200
TZNAME:CEST
DTSTART:20200329T010000
END:DAYLIGHT
BEGIN:STANDARD
TZOFFSETFROM:+0200
TZOFFSETTO:+0100
TZNAME:CET
DTSTART:20201025T010000
END:STANDARD
BEGIN:DAYLIGHT
TZOFFSETFROM:+0100
TZOFFSETTO:+0200
TZNAME:CEST
DTSTART:20210328T010000
END:DAYLIGHT
BEGIN:STANDARD
TZOFFSETFROM:+0200
TZOFFSETTO:+0100
TZNAME:CET
DTSTART:20211031T010000
END:STANDARD
END:VTIMEZONE
BEGIN:VEVENT
DTSTART;VALUE=DATE:20201012
DTEND;VALUE=DATE:20201022
DTSTAMP:20260424T155225
CREATED:20200929T145510Z
LAST-MODIFIED:20220404T123312Z
UID:14249-1602460800-1603324799@www.parc-livradois-forez.org
SUMMARY:Visite du chantier pierre sèche au Lac de Malaguet
DESCRIPTION:Des travaux d’aménagement auront lieu en octobre sur plusieurs emplacements de la Réserve naturelle régionale du Lac de Malaguet à Monlet (43) dans le but d’améliorer la qualité de l’accueil du public sur le site. Vous êtes les bienvenus pour venir découvrir le chantier pierre sèche et participer à une conférence sur cette technique ! \nLa Réserve naturelle régionale du Lac de Malaguet est dotée d’un sentier de découverte depuis 2017. Des aménagements seront réalisés le long du sentier cet automne\, permettant de mieux apprécier les points de vue ou de se reposer au cours de la balade… L’entrée du site sera également retravaillée pour mieux vous accueillir à votre arrivée dans cet espace naturel protégé. \nPar conséquent\, le parking et la majeure partie du sentier de découverte seront fermés au public du 5 au 23 octobre inclus. La carte ci-dessous précise les secteurs concernés. \n \n  \nVous êtes cependant les bienvenus pour venir visiter le chantier pierre sèche qui sera mené par ELIPS (Ecole Locale et Itinérante de la Pierre Sèche)\, du 12 au 21 octobre (sauf le week-end). Une calade et un muret seront réalisés à l’entrée du site ; c’est l’occasion d’en apprendre plus sur les techniques et la réalisation de tels ouvrages ! N’hésitez pas à prendre contact avec ELIPS pour tout renseignement : elipspierreseche@free.fr \nUne conférence sur la pierre sèche est également organisée le jeudi 15 octobre à 17h30 sur le site. Rendez-vous sur la plage du Lac de Malaguet pour y assister ! Inscription auprès du Parc au 04 73 95 57 57.\nNous vous donnons ensuite rendez-vous après les travaux pour venir (re)découvrir la Réserve et ses secrets… \n  \nCes travaux d’aménagement de la RNR du Lac de Malaguet réalisés par le Parc naturel régional Livradois-Forez en tant que gestionnaire du site sont financés par la Région Auvergne Rhône-Alpes. \n  \n 
URL:https://www.parc-livradois-forez.org/event/visite-du-chantier-pierre-seche-au-lac-de-malaguet/
LOCATION:Lac de Malaguet\, Parking du Lac de Malaguet\, Monlet\, 43270\, France
CATEGORIES:L'agenda du Parc
ATTACH;FMTTYPE=image/jpeg:https://www.parc-livradois-forez.org/wp-content/uploads/2020/09/flyer-malaguet-2020-pierre-seche-light.jpg
ORGANIZER;CN="Parc naturel r%C3%A9gional Livradois-Forez":MAILTO:info@parc-livradois-forez.org
END:VEVENT
END:VCALENDAR