BEGIN:VCALENDAR
VERSION:2.0
PRODID:-//Parc naturel régional Livradois-Forez - ECPv6.15.20//NONSGML v1.0//EN
CALSCALE:GREGORIAN
METHOD:PUBLISH
X-ORIGINAL-URL:https://www.parc-livradois-forez.org
X-WR-CALDESC:Évènements pour Parc naturel régional Livradois-Forez
REFRESH-INTERVAL;VALUE=DURATION:PT1H
X-Robots-Tag:noindex
X-PUBLISHED-TTL:PT1H
BEGIN:VTIMEZONE
TZID:Europe/Paris
BEGIN:DAYLIGHT
TZOFFSETFROM:+0100
TZOFFSETTO:+0200
TZNAME:CEST
DTSTART:20190331T010000
END:DAYLIGHT
BEGIN:STANDARD
TZOFFSETFROM:+0200
TZOFFSETTO:+0100
TZNAME:CET
DTSTART:20191027T010000
END:STANDARD
BEGIN:DAYLIGHT
TZOFFSETFROM:+0100
TZOFFSETTO:+0200
TZNAME:CEST
DTSTART:20200329T010000
END:DAYLIGHT
BEGIN:STANDARD
TZOFFSETFROM:+0200
TZOFFSETTO:+0100
TZNAME:CET
DTSTART:20201025T010000
END:STANDARD
BEGIN:DAYLIGHT
TZOFFSETFROM:+0100
TZOFFSETTO:+0200
TZNAME:CEST
DTSTART:20210328T010000
END:DAYLIGHT
BEGIN:STANDARD
TZOFFSETFROM:+0200
TZOFFSETTO:+0100
TZNAME:CET
DTSTART:20211031T010000
END:STANDARD
END:VTIMEZONE
BEGIN:VEVENT
DTSTART;TZID=Europe/Paris:20200925T093000
DTEND;TZID=Europe/Paris:20200925T153000
DTSTAMP:20260424T173712
CREATED:20200922T150406Z
LAST-MODIFIED:20200922T150732Z
UID:14231-1601026200-1601047800@www.parc-livradois-forez.org
SUMMARY:TRANSITIONS :  DES EXEMPLES NATIONAUX\, DES PROJETS LOCAUX
DESCRIPTION:Comment intégrer à la politique communale les préoccupations économiques\,  sociales et environnementales\,  dans une démarche globale de concertation ? tel est le sujet de réflexion  sur lequel se pencheront 70 élus du Parc naturel régional Livradois-Forez\, à Courpière\, vendredi 25 septembre 2020 de 9h30 à 15h30. \nCette journée de réflexion et d’échange s’inscrit dans le cadre du programme de sensibilisation mené par  l’Atelier d’urbanisme du Parc Livradois-Forez. \nElle sera en partie diffusée en « Facebooklive » sur la page FaceBook du Parc Livradois-Forez\, à partir de 9h30 : https://www.facebook.com/parc.livradois.forez\nLa réunion n’est pas ouverte au public. \nLes conditions sanitaires restreignent l’accès aux seules personnes déjà inscrites. \n____________________ \nProgramme :\nEn matinée\, après une mise en perspective des enjeux locaux face au défi planétaire\, Gérard POUJADE\, grand témoin de la journée\, maire de la commune de Le Séquestre\, près d’Albi\, depuis 2001\, donnera les résultats des actions de Transition conduites par sa municipalité : \n\ndiminution des consommations d’eau publiques et privées\,\ndiminution des consommations et productions d’énergies renouvelables\,\nprotection des paysages\,\ngestion des déchets\,\nprotection de la biodiversité\,\nbien vivre ensemble\,\nalimentation\,\nécoquartier\,\nmobilité douce\,\netc.\n\nL’après-midi\, des élus communaux du Livradois-Forez soumettront aux participants une idée de projet qu’ils souhaitent développer au cours de leur mandat : l’aménagement d’un espace vert ? la création d’un «lieu de vie» pour rénover un bâtiment dans le centre-bourg ? un projet de production d’énergie locale ? des solutions pour une mobilité douce ? la création d’un logement passerelle dans une maison vacante ? \nAccompagné par l’expertise du grand témoin\, chacun participera à définir les enjeux\, envisager des solutions et trouver des méthodes en faveur de la Transition. \nContacts au Parc Livradois-Forez :\nClaire MALLET et Leïla HAMIDI\, Chargées de mission « Urbanisme » – 04 73 95 57 57
URL:https://www.parc-livradois-forez.org/event/transitions-des-exemples-nationaux-des-projets-locaux/
LOCATION:Courpière\, Courpière\, 63120
CATEGORIES:L'agenda du Parc
ATTACH;FMTTYPE=image/jpeg:https://www.parc-livradois-forez.org/wp-content/uploads/2020/09/vvrrg.jpeg
ORGANIZER;CN="Parc naturel r%C3%A9gional Livradois-Forez":MAILTO:info@parc-livradois-forez.org
END:VEVENT
END:VCALENDAR