BEGIN:VCALENDAR
VERSION:2.0
PRODID:-//Parc naturel régional Livradois-Forez - ECPv6.15.20//NONSGML v1.0//EN
CALSCALE:GREGORIAN
METHOD:PUBLISH
X-ORIGINAL-URL:https://www.parc-livradois-forez.org
X-WR-CALDESC:Évènements pour Parc naturel régional Livradois-Forez
REFRESH-INTERVAL;VALUE=DURATION:PT1H
X-Robots-Tag:noindex
X-PUBLISHED-TTL:PT1H
BEGIN:VTIMEZONE
TZID:Europe/Paris
BEGIN:DAYLIGHT
TZOFFSETFROM:+0100
TZOFFSETTO:+0200
TZNAME:CEST
DTSTART:20190331T010000
END:DAYLIGHT
BEGIN:STANDARD
TZOFFSETFROM:+0200
TZOFFSETTO:+0100
TZNAME:CET
DTSTART:20191027T010000
END:STANDARD
BEGIN:DAYLIGHT
TZOFFSETFROM:+0100
TZOFFSETTO:+0200
TZNAME:CEST
DTSTART:20200329T010000
END:DAYLIGHT
BEGIN:STANDARD
TZOFFSETFROM:+0200
TZOFFSETTO:+0100
TZNAME:CET
DTSTART:20201025T010000
END:STANDARD
BEGIN:DAYLIGHT
TZOFFSETFROM:+0100
TZOFFSETTO:+0200
TZNAME:CEST
DTSTART:20210328T010000
END:DAYLIGHT
BEGIN:STANDARD
TZOFFSETFROM:+0200
TZOFFSETTO:+0100
TZNAME:CET
DTSTART:20211031T010000
END:STANDARD
END:VTIMEZONE
BEGIN:VEVENT
DTSTART;VALUE=DATE:20200919
DTEND;VALUE=DATE:20200920
DTSTAMP:20260424T175547
CREATED:20200915T085647Z
LAST-MODIFIED:20200915T090722Z
UID:14214-1600473600-1600559999@www.parc-livradois-forez.org
SUMMARY:Faites avec la terre
DESCRIPTION:Château d’Aulteribe \n19 septembre  de 10h à 12h et de 14h à 18h  \nSermentizon  \nObser vez\, expérimentez\, échangez\, en savoir plus sur la rénovation et la construction en terre crue \nDécoffrage public de l’installation «Visible\, Invisible» de l’Atelier Alba. \nDécouvrez la rénovation et la construction contemporaine en terre crue en compagnie des acteurs du territoire qui forment\, construisent ou créent avec ce matériau d’avenir. \nDémonstration\, atelier\, rencontre \nDécouverte sensorielle de la matière terre\, de sa diversité et de sa qualité constructive avec l’association Terre de Cunlhat.  \nChantier-démonstration de restauration du bâti en terre\, réalisation d’adobes (briques terre crue) et d’un ouvrage en pisé avec le GRETA Livradois-Forez.  \nExpositions \n« Rénover et Construire en pisé en Livradois-Forez »  du Parc naturel régional Livradois-Forez \n« Terre nourricière\, terre à bâtir »\, photographies de Christiane Champilou\, \nassociation Culture et Patrimoine de Sermentizon présentée jusqu’au 31 décembre 2020. \nPrésentation des travaux des étudiants de l’Ecole nationale supérieur d’architecture de Clermont-Ferrand et des apprenants du GRETA Livradois-Forez sur la rénovation et la réhabilitation du bâti en pisé du Domaine d’Aulteribe \nVisible\, Invisible \nRendez-vous le 19 septembre à 17h  \npour le décoffrage public de l’installation en pisé et bois brûlé de l’Atelier Alba\,  \nDu 14 au 19 septembre\, Mathilde Béguin\, architecte et Nicolas Béguin\, ébéniste de l’Atelier Alba fabriquent et installent dans le parc « Visible\, Invisible »\, une création entre mobilier et architecture réinterprétant le cabinet d’apparat présenté dans les collections du château. Tout au long du chantier\, il sera possible d’observer l’oeuvre en construction. \nA partir du 20 septembre\, l’oeuvre sera visible de manière permanente. \nRenseignements : 04 73 53 14 55 – chateau-aulteribe@monuments-nationaux.fr  \nFaites avec la terre
URL:https://www.parc-livradois-forez.org/event/faites-avec-la-terre/
CATEGORIES:Eco-manifestation,L'agenda du Parc
ATTACH;FMTTYPE=image/jpeg:https://www.parc-livradois-forez.org/wp-content/uploads/2020/09/Visuel-faites-avec-la-terre.jpg
END:VEVENT
END:VCALENDAR