BEGIN:VCALENDAR
VERSION:2.0
PRODID:-//Parc naturel régional Livradois-Forez - ECPv6.15.20//NONSGML v1.0//EN
CALSCALE:GREGORIAN
METHOD:PUBLISH
X-WR-CALNAME:Parc naturel régional Livradois-Forez
X-ORIGINAL-URL:https://www.parc-livradois-forez.org
X-WR-CALDESC:Évènements pour Parc naturel régional Livradois-Forez
REFRESH-INTERVAL;VALUE=DURATION:PT1H
X-Robots-Tag:noindex
X-PUBLISHED-TTL:PT1H
BEGIN:VTIMEZONE
TZID:Europe/Paris
BEGIN:DAYLIGHT
TZOFFSETFROM:+0100
TZOFFSETTO:+0200
TZNAME:CEST
DTSTART:20190331T010000
END:DAYLIGHT
BEGIN:STANDARD
TZOFFSETFROM:+0200
TZOFFSETTO:+0100
TZNAME:CET
DTSTART:20191027T010000
END:STANDARD
BEGIN:DAYLIGHT
TZOFFSETFROM:+0100
TZOFFSETTO:+0200
TZNAME:CEST
DTSTART:20200329T010000
END:DAYLIGHT
BEGIN:STANDARD
TZOFFSETFROM:+0200
TZOFFSETTO:+0100
TZNAME:CET
DTSTART:20201025T010000
END:STANDARD
BEGIN:DAYLIGHT
TZOFFSETFROM:+0100
TZOFFSETTO:+0200
TZNAME:CEST
DTSTART:20210328T010000
END:DAYLIGHT
BEGIN:STANDARD
TZOFFSETFROM:+0200
TZOFFSETTO:+0100
TZNAME:CET
DTSTART:20211031T010000
END:STANDARD
END:VTIMEZONE
BEGIN:VEVENT
DTSTART;TZID=Europe/Paris:20200918T183000
DTEND;TZID=Europe/Paris:20200918T203000
DTSTAMP:20260424T173706
CREATED:20200915T084052Z
LAST-MODIFIED:20200915T084135Z
UID:14207-1600453800-1600461000@www.parc-livradois-forez.org
SUMMARY:Une conférence scientifique et poétique sur les chauves-souris
DESCRIPTION:Le Parc naturel régional Livradois-Forez et la communauté de communes Thiers Dore et Montagne proposent une conférence scientifique et poétique\nvendredi 18 septembre 2020\nà 18h30\nau Lac d’Aubusson-d’Auvergne (63).\n\nConnaissez-vous la Noctule ou le Rhinolophe ?\nDerrière ces noms étranges se cachent de fascinants petits mammifères volants.\n\nLe public est invité à venir à leur rencontre\, à l’occasion d’une conférence « renversante » et à découvrir les chauves-souris avec humour et poésie grâce à la clarinette d’Alexis BERDOULAT et à la danse aérienne de Lucie PHILIPPE\, trapéziste de la compagnie de la Grange aux Ailes.\n\nInscription obligatoire auprès du Parc Livradois-Forez :\n04 73 95 57 57\n\nContact :\nIsabelle ROMEUF\, Chargée de mission « Natura 2000 » au Parc Livradois Forez\, 04 73 95 57 57
URL:https://www.parc-livradois-forez.org/event/une-conference-scientifique-et-poetique-sur-les-chauves-souris/
LOCATION:Lac d’Aubusson d’Auvergne\, La Prade\, Aubusson d'Auvergne\, 63120\, France
CATEGORIES:Eco-manifestation,L'agenda du Parc
ATTACH;FMTTYPE=image/png:https://www.parc-livradois-forez.org/wp-content/uploads/2020/09/vvn5u.png
ORGANIZER;CN="Parc naturel r%C3%A9gional Livradois-Forez":MAILTO:info@parc-livradois-forez.org
END:VEVENT
END:VCALENDAR