BEGIN:VCALENDAR
VERSION:2.0
PRODID:-//Parc naturel régional Livradois-Forez - ECPv6.15.20//NONSGML v1.0//EN
CALSCALE:GREGORIAN
METHOD:PUBLISH
X-ORIGINAL-URL:https://www.parc-livradois-forez.org
X-WR-CALDESC:Évènements pour Parc naturel régional Livradois-Forez
REFRESH-INTERVAL;VALUE=DURATION:PT1H
X-Robots-Tag:noindex
X-PUBLISHED-TTL:PT1H
BEGIN:VTIMEZONE
TZID:Europe/Paris
BEGIN:DAYLIGHT
TZOFFSETFROM:+0100
TZOFFSETTO:+0200
TZNAME:CEST
DTSTART:20180325T010000
END:DAYLIGHT
BEGIN:STANDARD
TZOFFSETFROM:+0200
TZOFFSETTO:+0100
TZNAME:CET
DTSTART:20181028T010000
END:STANDARD
BEGIN:DAYLIGHT
TZOFFSETFROM:+0100
TZOFFSETTO:+0200
TZNAME:CEST
DTSTART:20190331T010000
END:DAYLIGHT
BEGIN:STANDARD
TZOFFSETFROM:+0200
TZOFFSETTO:+0100
TZNAME:CET
DTSTART:20191027T010000
END:STANDARD
BEGIN:DAYLIGHT
TZOFFSETFROM:+0100
TZOFFSETTO:+0200
TZNAME:CEST
DTSTART:20200329T010000
END:DAYLIGHT
BEGIN:STANDARD
TZOFFSETFROM:+0200
TZOFFSETTO:+0100
TZNAME:CET
DTSTART:20201025T010000
END:STANDARD
END:VTIMEZONE
BEGIN:VEVENT
DTSTART;VALUE=DATE:20191017
DTEND;VALUE=DATE:20191030
DTSTAMP:20260425T131830
CREATED:20191007T093204Z
LAST-MODIFIED:20191007T093757Z
UID:12462-1571270400-1572393599@www.parc-livradois-forez.org
SUMMARY:Ambert Livradois Forez œuvre à l’élaboration de son Plan Climat Air Energie Territorial (PCAET).
DESCRIPTION:La communauté de communes Ambert Livradois Forez œuvre à l’élaboration de son Plan Climat Air Energie Territorial (PCAET). \nAprès les phase de diagnostic et de définition de sa stratégie en juin dernier\, elle arrive dans la phase d’élaboration du plan d’actions. Pour ce faire\, elle organise des ateliers à destination du grand public afin de construire avec les habitants le territoire de demain. \n5 ateliers vont avoir lieu fin octobre avec chacun une thématique différente. Vous trouverez tous les détails dans l’affiche/flyer ci-dessous. \nPour toutes questions vous pouvez contacter Edith Allard (edith.allard@ambertlivradoisforez.fr – 04 73 95 19 13).
URL:https://www.parc-livradois-forez.org/event/ambert-livradois-forez-oeuvre-a-lelaboration-de-son-plan-climat-air-energie-territorial-pcaet/
LOCATION:Ambert Livradois Forez\, 15 avenue du 11 novembre\, Ambert\, 63600
CATEGORIES:L'agenda du Parc
ATTACH;FMTTYPE=image/jpeg:https://www.parc-livradois-forez.org/wp-content/uploads/2019/10/Affiche-Ateliers-PCAET-pdf.jpg
ORGANIZER;CN="Communaut%C3%A9 de communes Ambert Livradois Forez":MAILTO:accueil@ambertlivradoisforez.fr
END:VEVENT
BEGIN:VEVENT
DTSTART;TZID=Europe/Paris:20191024T180000
DTEND;TZID=Europe/Paris:20191024T193000
DTSTAMP:20260425T131830
CREATED:20191018T140456Z
LAST-MODIFIED:20191018T141234Z
UID:12491-1571940000-1571945400@www.parc-livradois-forez.org
SUMMARY:Produire ENSEMBLE notre énergie renouvelable
DESCRIPTION:Citoyens\, participez au projet\,\nSCIC TOI ET TOITS\nRéunion publique :\n24 octobre 2019 à 18h\, THIERS\, salle Tournillac \nSociété Coopérative d’Intérêt Collectif TOI ET TOITS\n15 rue du 11 novembre 63600 Ambert\ncontact : scictoiettoits@gmail.com\nhttps://www.facebook.com/ENRLIVRAFOISFOREZ/ \n \n  \n \nDépliant de la SCIC TOI ET TOITS
URL:https://www.parc-livradois-forez.org/event/produire-ensemble-notre-energie-renouvelable/
LOCATION:Mairie de THIERS\, 1\, rue François MITTERRAND\, THIERS\, 04 73 80 88 80\, 63300
CATEGORIES:L'agenda du Parc
ATTACH;FMTTYPE=image/jpeg:https://www.parc-livradois-forez.org/wp-content/uploads/2019/10/TT2.jpg
ORGANIZER;CN="Toi et Toits":MAILTO:pascal.challet@wanadoo.fr
END:VEVENT
END:VCALENDAR