BEGIN:VCALENDAR
VERSION:2.0
PRODID:-//Parc naturel régional Livradois-Forez - ECPv6.15.20//NONSGML v1.0//EN
CALSCALE:GREGORIAN
METHOD:PUBLISH
X-ORIGINAL-URL:https://www.parc-livradois-forez.org
X-WR-CALDESC:Évènements pour Parc naturel régional Livradois-Forez
REFRESH-INTERVAL;VALUE=DURATION:PT1H
X-Robots-Tag:noindex
X-PUBLISHED-TTL:PT1H
BEGIN:VTIMEZONE
TZID:Europe/Paris
BEGIN:DAYLIGHT
TZOFFSETFROM:+0100
TZOFFSETTO:+0200
TZNAME:CEST
DTSTART:20200329T010000
END:DAYLIGHT
BEGIN:STANDARD
TZOFFSETFROM:+0200
TZOFFSETTO:+0100
TZNAME:CET
DTSTART:20201025T010000
END:STANDARD
BEGIN:DAYLIGHT
TZOFFSETFROM:+0100
TZOFFSETTO:+0200
TZNAME:CEST
DTSTART:20210328T010000
END:DAYLIGHT
BEGIN:STANDARD
TZOFFSETFROM:+0200
TZOFFSETTO:+0100
TZNAME:CET
DTSTART:20211031T010000
END:STANDARD
BEGIN:DAYLIGHT
TZOFFSETFROM:+0100
TZOFFSETTO:+0200
TZNAME:CEST
DTSTART:20220327T010000
END:DAYLIGHT
BEGIN:STANDARD
TZOFFSETFROM:+0200
TZOFFSETTO:+0100
TZNAME:CET
DTSTART:20221030T010000
END:STANDARD
END:VTIMEZONE
BEGIN:VEVENT
DTSTART;TZID=Europe/Paris:20210506T140000
DTEND;TZID=Europe/Paris:20210506T160000
DTSTAMP:20260424T015914
CREATED:20210311T131556Z
LAST-MODIFIED:20210311T131712Z
UID:15560-1620309600-1620316800@www.parc-livradois-forez.org
SUMMARY:La transition\, une méthode pour votre mandat
DESCRIPTION:En 2021\, l’Atelier d’urbanisme est passé au numérique\nLe programme des rencontres numériques de l’Atelier d’Urbanisme en Livradois-Forez s’étoffe ! \nTrois websessions de 2h\, intitulées « Le Plan local d’urbanisme rural au service de vos projets » avaient déjà été programmées  en février\, mars et avril 2021. \nTrois nouvelles sessions  s’ajoutent à cette offre sur la thématique suivante : \nLa transition\,\nune méthode pour votre mandat\njeudi 06 mai 2021 de 14h00 à 16h00. \n________________ \nProgramme :\nIntroduction aux notions de transitions Retour d’expérience*\nAtelier de travail sur un projet local.\n*Chaque session est enrichie du témoignage d’un représentant d’un territoire ayant mené des projets exemplaires. Pour la première séance\, ce témoin est : Gilbert CHABAUD\, maire de Saint-Pierre-de-Frugie (Dordogne). \nContexte :\nLes citoyens attendent que les élus apportent des solutions concrètes de transition à l’échelle locale pour répondre aux défis sur les questions : d’énergie\, de climat\, de biodiversité\, de participation citoyenne\, de développement territorial\, etc.  En France\, des élus locaux mènent à bien des politiques exemplaires pour engager leur territoire\, leur commune\, dans une transition écologique positive. \nEn pratique :\nLes websessions de l’Atelier d’urbanisme en Livradois-Forez sont interactives et participatives. Elles sont limitées à 15 personnes.\nElles ne sont pas ouvertes au grand public.\nRéservées aux élus\, elles nécessitent une inscription préalable. \nContact :\nLeïla HAMIDI \, chargée de mission « Urbanisme  » – l.hamidi@parc-livradois-forez.org – 04 73 95 57 93
URL:https://www.parc-livradois-forez.org/event/la-transition-une-methode-pour-votre-mandat-3/
LOCATION:Visioconférence
CATEGORIES:L'agenda du Parc
ATTACH;FMTTYPE=image/jpeg:https://www.parc-livradois-forez.org/wp-content/uploads/2021/03/transitiontown1.jpg
ORGANIZER;CN="Parc naturel r%C3%A9gional Livradois-Forez":MAILTO:info@parc-livradois-forez.org
END:VEVENT
BEGIN:VEVENT
DTSTART;VALUE=DATE:20210519
DTEND;VALUE=DATE:20210524
DTSTAMP:20260424T015914
CREATED:20210517T153306Z
LAST-MODIFIED:20210517T153842Z
UID:16087-1621382400-1621814399@www.parc-livradois-forez.org
SUMMARY:Fête de la nature dans le Puy-de-Dôme
DESCRIPTION:Partez à la découverte des richesses de nos espaces naturels sensibles à travers mille et un regards :célébrons notre nature sensible\, si belle et tellement proche\, pour la voir et la vivre autrement. Le programme se déroule en grande partie dans le Livradois-Forez sur l’espace naturel sensible de la Forêt de la Comté. \nhttps://www.puy-de-dome.fr/actualites/mai-2021/fete-de-la-nature-2021.html 
URL:https://www.parc-livradois-forez.org/event/fete-de-la-nature-dans-le-puy-de-dome/
LOCATION:Maison des Espaces Naturels\, Forêt de la Comté D225\, SALLEDES\, 63270
CATEGORIES:L'agenda du Parc
ATTACH;FMTTYPE=image/jpeg:https://www.parc-livradois-forez.org/wp-content/uploads/2021/05/csm_FDN2021_94d623f270.jpg
END:VEVENT
BEGIN:VEVENT
DTSTART;TZID=Europe/Paris:20210522T100000
DTEND;TZID=Europe/Paris:20210522T170000
DTSTAMP:20260424T015914
CREATED:20210517T151132Z
LAST-MODIFIED:20210517T151132Z
UID:16083-1621677600-1621702800@www.parc-livradois-forez.org
SUMMARY:Fête de la nature\, à la découverte des espèces protégées au Lac d’Aubusson
DESCRIPTION:La Fête de la Nature est un événement national qui invite\, chaque année\, le public à partir à la rencontre des richesses naturelles des différentes régions.\nA cette occasion\, la Catiche*\, en partenariat avec le Parc naturel régional Livradois-Forez\, propose deux balades nature autour du lac d’Aubusson (10h et 14h30)\, afin de mieux connaître les espèces protégées qui y évoluent (chauves-souris\, libellules\, crapaud sonneur à ventre jaune\, orchidées\, papillons…). Ces animations ont aussi pour objectif de présenter les méthodes appliquées autour du lac pour favoriser le développement de ces espèces.\nPratique : animations gratuites\, tout public à partir de 8 ans. Départ des balades : 10h et 14h30\, depuis la Maison du Lac d’Aubusson d’Auvergne (durée : environ 2h30). Inscriptions nécessaires sur www.vacances-livradois-forez.com (rubrique billetterie). Sorties limitées à 9 personnes en raison des conditions sanitaires. Renseignements : 04 73 53 59 91.\nPhotos : A.Pons et Parc naturel régional Livradois Forez\n* La Catiche : le service Education à l’Environnement pour une Développement Durable de la Communauté de communes Thiers Dore Montagne (TDM)
URL:https://www.parc-livradois-forez.org/event/fete-de-la-nature-a-la-decouverte-des-especes-protegees-au-lac-daubusson/
LOCATION:Lac d’Aubusson d’Auvergne\, La Prade\, Aubusson d'Auvergne\, 63120\, France
CATEGORIES:L'agenda du Parc
ATTACH;FMTTYPE=image/jpeg:https://www.parc-livradois-forez.org/wp-content/uploads/2021/05/oxygastra_curtisii_male_5.jpg
END:VEVENT
END:VCALENDAR