BEGIN:VCALENDAR
VERSION:2.0
PRODID:-//Parc naturel régional Livradois-Forez - ECPv6.15.20//NONSGML v1.0//EN
CALSCALE:GREGORIAN
METHOD:PUBLISH
X-ORIGINAL-URL:https://www.parc-livradois-forez.org
X-WR-CALDESC:Évènements pour Parc naturel régional Livradois-Forez
REFRESH-INTERVAL;VALUE=DURATION:PT1H
X-Robots-Tag:noindex
X-PUBLISHED-TTL:PT1H
BEGIN:VTIMEZONE
TZID:Europe/Paris
BEGIN:DAYLIGHT
TZOFFSETFROM:+0100
TZOFFSETTO:+0200
TZNAME:CEST
DTSTART:20200329T010000
END:DAYLIGHT
BEGIN:STANDARD
TZOFFSETFROM:+0200
TZOFFSETTO:+0100
TZNAME:CET
DTSTART:20201025T010000
END:STANDARD
BEGIN:DAYLIGHT
TZOFFSETFROM:+0100
TZOFFSETTO:+0200
TZNAME:CEST
DTSTART:20210328T010000
END:DAYLIGHT
BEGIN:STANDARD
TZOFFSETFROM:+0200
TZOFFSETTO:+0100
TZNAME:CET
DTSTART:20211031T010000
END:STANDARD
BEGIN:DAYLIGHT
TZOFFSETFROM:+0100
TZOFFSETTO:+0200
TZNAME:CEST
DTSTART:20220327T010000
END:DAYLIGHT
BEGIN:STANDARD
TZOFFSETFROM:+0200
TZOFFSETTO:+0100
TZNAME:CET
DTSTART:20221030T010000
END:STANDARD
END:VTIMEZONE
BEGIN:VEVENT
DTSTART;VALUE=DATE:20210126
DTEND;VALUE=DATE:20210127
DTSTAMP:20260424T094248
CREATED:20210125T105622Z
LAST-MODIFIED:20210125T105622Z
UID:15049-1611619200-1611705599@www.parc-livradois-forez.org
SUMMARY:Forum alimentaire
DESCRIPTION:Le Forum alimentaire du Projet Alimentaire Territorial du Grand Clermont et du Parc naturel régional Livradois-Forez se tiendra  \nmardi 26 janvier 2021 \nen visioconférence. \nCette deuxième édition s’adapte aux conditions actuelles : organisée en ligne et sous un format réduit\, elle sera malgré tout\, pour les participants\, l’occasion d’approfondir leur compréhension commune des enjeux locaux en matière d’alimentation et de partager des informations et des réflexions lors de 3 temps forts : \n\nune réunion plénière pour prendre connaissance des actions conduites dans le cadre du PAT en 2020\, des actions programmées pour 2021 et de l’actualité nationale\, notamment en lien avec le Plan de relance\,\ntrois ateliers pour illustrer trois enjeux locaux sur : les protéines végétales\, les légumes de plein champs\, la restauration collective\,\nquatre mini-conférences données par des personnalités issues du monde de la recherche.\n\nEnfin\, ce Forum sera placé sous le patronage d’un « Grand témoin » en la personne de Yuna CHIFFOLEAU\, directrice de recherche en sociologie à l’Institut national de recherche pour l’agriculture\, l’alimentation et l’environnement (INRAE). \nCet événement est réservé aux personnes impliquées dans le PAT ou souhaitant s’investir ; il n’est pas destiné au grand public. \nLIEN D’INSCRIPTION \nPlus de détails sur le Projet alimentaire territorial  \nContacts : \n\npour le Parc Livradois-Forez et le Grand Clermont\, Moïra E-ANGO\, chargée de mission du Projet alimentaire territorial\, 07 57 07 50 64 – animation.pat@legrandclermont.fr\npour Bio 63\, Solenn BRIOUDE\, animatrice « Circuits courts » – 07 89 41 88 75 – solenn.bio63@aurabio.org\npour la Chambre d’Agriculture du Puy-de-Dôme\, Estelle TEYSSIER\, animatrice « Circuits courts » – 04 73 44 45 57 –e.teyssier@puy-de-dome.chambagri.fr
URL:https://www.parc-livradois-forez.org/event/forum-alimentaire/
LOCATION:Visioconférence
CATEGORIES:L'agenda du Parc
ORGANIZER;CN="Projet Alimentaire Territorial du Grand Clermont et du Parc Livradois-Forez":MAILTO:animation.pat@legrandclermont.fr
END:VEVENT
END:VCALENDAR