BEGIN:VCALENDAR
VERSION:2.0
PRODID:-//Parc naturel régional Livradois-Forez - ECPv6.15.20//NONSGML v1.0//EN
CALSCALE:GREGORIAN
METHOD:PUBLISH
X-ORIGINAL-URL:https://www.parc-livradois-forez.org
X-WR-CALDESC:Évènements pour Parc naturel régional Livradois-Forez
REFRESH-INTERVAL;VALUE=DURATION:PT1H
X-Robots-Tag:noindex
X-PUBLISHED-TTL:PT1H
BEGIN:VTIMEZONE
TZID:Europe/Paris
BEGIN:DAYLIGHT
TZOFFSETFROM:+0100
TZOFFSETTO:+0200
TZNAME:CEST
DTSTART:20190331T010000
END:DAYLIGHT
BEGIN:STANDARD
TZOFFSETFROM:+0200
TZOFFSETTO:+0100
TZNAME:CET
DTSTART:20191027T010000
END:STANDARD
BEGIN:DAYLIGHT
TZOFFSETFROM:+0100
TZOFFSETTO:+0200
TZNAME:CEST
DTSTART:20200329T010000
END:DAYLIGHT
BEGIN:STANDARD
TZOFFSETFROM:+0200
TZOFFSETTO:+0100
TZNAME:CET
DTSTART:20201025T010000
END:STANDARD
BEGIN:DAYLIGHT
TZOFFSETFROM:+0100
TZOFFSETTO:+0200
TZNAME:CEST
DTSTART:20210328T010000
END:DAYLIGHT
BEGIN:STANDARD
TZOFFSETFROM:+0200
TZOFFSETTO:+0100
TZNAME:CET
DTSTART:20211031T010000
END:STANDARD
END:VTIMEZONE
BEGIN:VEVENT
DTSTART;TZID=Europe/Paris:20200402T190000
DTEND;TZID=Europe/Paris:20200402T223000
DTSTAMP:20260425T012643
CREATED:20200305T145814Z
LAST-MODIFIED:20200305T145814Z
UID:13189-1585854000-1585866600@www.parc-livradois-forez.org
SUMMARY:La bonté de la nuit
DESCRIPTION:Un moment de sensibilisation grand public sur la qualité de la nuit et ses enjeux importants : biodiversité\, santé\, culture \n  \nCe soir là à 20h09\, le coucher du soleil sur le puy de Dôme sera visible depuis le parvis de l’église d’Olmet\, voir l’Ephéméride du temple de Mercure. \nPar ailleurs\, l’église abrite dans la crypte des chauve-souris. La commune éteint l’éclairage public de 23 h à 7 h. \nC’est donc l’endroit idéal pour une soirée sur le thème de la nuit. \nLe programme n’en est pas encore tout à fait fixé mais il se dit que la soirée pourrait se dérouler de la façon suivante : \n\nLecture de contes sur le thème de la nuit par Passeurs de mots sur le parvis de l’église\nObservation du coucher du soleil à 20h09\nExposition de photos de la campagne de collecte « Ce que je vois depuis ma fenêtre la nuit »\nConférence de sensibilisation par le collectif RENOIR\nAnimation « Chauves-souris » avec l’Association Chauve-souris Auvergne\n\n \nImage d’entête : Frédéric MENSE\, Vollore-Montagne
URL:https://www.parc-livradois-forez.org/event/la-bonte-de-la-nuit/
LOCATION:Parvis de l’Eglise d’Olmet\, OLMET\, 63120
CATEGORIES:L'agenda du Parc
ATTACH;FMTTYPE=image/jpeg:https://www.parc-livradois-forez.org/wp-content/uploads/2020/03/Vollore_Montagne_FPM1243.jpg
END:VEVENT
END:VCALENDAR